BEGIN:VCALENDAR
VERSION:2.0
PRODID:-//ChamberMaster//Event Calendar 2.0//EN
METHOD:PUBLISH
X-PUBLISHED-TTL:P3D
REFRESH-INTERVAL:P3D
CALSCALE:GREGORIAN
BEGIN:VEVENT
DTSTART;VALUE=DATE:20241212
DTEND;VALUE=DATE:20241213
TRANSP:TRANSPARENT
X-MICROSOFT-CDO-ALLDAYEVENT:TRUE
SUMMARY:12 Days of Christmas 2024
DESCRIPTION:Day 6
X-ALT-DESC;FMTTYPE=text/html:Day 6
LOCATION:
UID:e.3381.5012657
SEQUENCE:3
DTSTAMP:20260421T090644Z
URL:https://www.maryvillechamber.com/events/details/12-days-of-christmas-2024-5012657
END:VEVENT

END:VCALENDAR
