BEGIN:VCALENDAR
VERSION:2.0
PRODID:-//ChamberMaster//Event Calendar 2.0//EN
METHOD:PUBLISH
X-PUBLISHED-TTL:P3D
REFRESH-INTERVAL:P3D
CALSCALE:GREGORIAN
BEGIN:VEVENT
DTSTART:20260411T060000Z
DTEND:20260426T045500Z
X-MICROSOFT-CDO-ALLDAYEVENT:FALSE
SUMMARY:2026 5KXCV-KRNW
DESCRIPTION:5KXCV-KRNW Run for Radio Anytime-Anywhere | April 11-25\, 2026 KXCV-KRNW will be hosting a 5K VIRTUAL Run/Walk to support local public radio. Run or Walk 5K anytime between April 11-25\, clock your time\, send a selfie and a photo of your results Registration is $25 and $20 for Northwest students Participants receive a long sleeve cotton T-shirt When registering\, use address associated with credit card To get your race package with shirt BEFORE the race\, register by April 1 Send results\, selfies or videos to HSTAGGS@nwmissouri.edu and tag KXCV on social media You can run or walk 3.1 miles anywhere you choose. Bearcat Trail Proceeds support the programming on your local NPR station\, KXCV-KRNW.
X-ALT-DESC;FMTTYPE=text/html:5KXCV-KRNW Run for Radio Anytime-Anywhere | April 11-25\, 2026 KXCV-KRNW will be hosting a 5K VIRTUAL Run/Walk to support local public radio. Run or Walk 5K anytime between April 11-25\, clock your time\, send a selfie and a photo of your results Registration is $25 and $20 for Northwest students Participants receive a long sleeve cotton T-shirt When registering\, use address associated with credit card To get your race package with shirt BEFORE the race\, register by April 1 Send results\, selfies or videos to HSTAGGS@nwmissouri.edu and tag KXCV on social media You can run or walk 3.1 miles anywhere you choose. Bearcat Trail Proceeds support the programming on your local NPR station\, KXCV-KRNW.
LOCATION:Virtual
UID:e.3381.5013025
SEQUENCE:3
DTSTAMP:20260425T155737Z
URL:https://www.maryvillechamber.com/events/details/2026-5kxcv-krnw-5013025
END:VEVENT

END:VCALENDAR
