BEGIN:VCALENDAR
VERSION:2.0
PRODID:-//ChamberMaster//Event Calendar 2.0//EN
METHOD:PUBLISH
X-PUBLISHED-TTL:P3D
REFRESH-INTERVAL:P3D
CALSCALE:GREGORIAN
BEGIN:VEVENT
DTSTART:20260502T140000Z
DTEND:20260502T170000Z
X-MICROSOFT-CDO-ALLDAYEVENT:FALSE
SUMMARY:Abbey Trails 5K Run / 2 Mile Walk / Health Fair
DESCRIPTION:https://www.conceptionabbey.org/abbeytrails
X-ALT-DESC;FMTTYPE=text/html:<b style="color: rgb(34\, 34\, 34)\; font-family: Arial\, Helvetica\, sans-serif\; font-size: small\;"><span style="font-size: 11pt\;"><a data-saferedirecturl="https://www.google.com/url?q=https://www.conceptionabbey.org/abbeytrails&amp\;source=gmail&amp\;ust=1645649067448000&amp\;usg=AOvVaw3TCD_cvmg-8ekc_kN5bCfA" href="https://www.conceptionabbey.org/abbeytrails" style="color: rgb(17\, 85\, 204)\;" target="_blank">https://www.conceptionabbey.<wbr />org/abbeytrails</a></span></b>
LOCATION:
UID:e.3381.5013035
SEQUENCE:3
DTSTAMP:20260425T143929Z
URL:https://www.maryvillechamber.com/events/details/abbey-trails-5k-run-2-mile-walk-health-fair-5013035
END:VEVENT

END:VCALENDAR
