BEGIN:VCALENDAR
VERSION:2.0
PRODID:-//ChamberMaster//Event Calendar 2.0//EN
METHOD:PUBLISH
X-PUBLISHED-TTL:P3D
REFRESH-INTERVAL:P3D
CALSCALE:GREGORIAN
BEGIN:VEVENT
DTSTART:20260502T120000Z
DTEND:20260502T160000Z
X-MICROSOFT-CDO-ALLDAYEVENT:FALSE
SUMMARY:Maryville Garden Club Plant & Bake Sale
DESCRIPTION:Annual MGC Plant & Bake Sale: Senior Center 1210 E. 1st St. 7 - 11 am. Annuals\, Perennials\, Shrubs\, Daylilies\, Mums\, Vegetable Plants\, Asters\, and a large variety of other plants. Bake Sale also.
X-ALT-DESC;FMTTYPE=text/html:Annual MGC Plant &amp\; Bake Sale: Senior Center 1210 E. 1st St. 7 - 11 am. Annuals\, Perennials\, Shrubs\, Daylilies\, Mums\, Vegetable Plants\, Asters\, and a large variety of other plants. Bake Sale also.
LOCATION:1210 E. 1st Street
UID:e.3381.5013086
SEQUENCE:3
DTSTAMP:20260424T175040Z
URL:https://www.maryvillechamber.com/events/details/maryville-garden-club-plant-bake-sale-05-02-2026-5013086
END:VEVENT

END:VCALENDAR
